BEGIN:VCALENDAR
VERSION:2.0
PRODID:-//Noby - ECPv6.15.20//NONSGML v1.0//EN
CALSCALE:GREGORIAN
METHOD:PUBLISH
X-WR-CALNAME:Noby
X-ORIGINAL-URL:https://noby.no
X-WR-CALDESC:Events for Noby
REFRESH-INTERVAL;VALUE=DURATION:PT1H
X-Robots-Tag:noindex
X-PUBLISHED-TTL:PT1H
BEGIN:VTIMEZONE
TZID:Europe/Oslo
BEGIN:DAYLIGHT
TZOFFSETFROM:+0100
TZOFFSETTO:+0200
TZNAME:CEST
DTSTART:20230326T010000
END:DAYLIGHT
BEGIN:STANDARD
TZOFFSETFROM:+0200
TZOFFSETTO:+0100
TZNAME:CET
DTSTART:20231029T010000
END:STANDARD
BEGIN:DAYLIGHT
TZOFFSETFROM:+0100
TZOFFSETTO:+0200
TZNAME:CEST
DTSTART:20240331T010000
END:DAYLIGHT
BEGIN:STANDARD
TZOFFSETFROM:+0200
TZOFFSETTO:+0100
TZNAME:CET
DTSTART:20241027T010000
END:STANDARD
BEGIN:DAYLIGHT
TZOFFSETFROM:+0100
TZOFFSETTO:+0200
TZNAME:CEST
DTSTART:20250330T010000
END:DAYLIGHT
BEGIN:STANDARD
TZOFFSETFROM:+0200
TZOFFSETTO:+0100
TZNAME:CET
DTSTART:20251026T010000
END:STANDARD
BEGIN:DAYLIGHT
TZOFFSETFROM:+0100
TZOFFSETTO:+0200
TZNAME:CEST
DTSTART:20260329T010000
END:DAYLIGHT
BEGIN:STANDARD
TZOFFSETFROM:+0200
TZOFFSETTO:+0100
TZNAME:CET
DTSTART:20261025T010000
END:STANDARD
END:VTIMEZONE
BEGIN:VEVENT
DTSTART;TZID=Europe/Oslo:20250415T140000
DTEND;TZID=Europe/Oslo:20250415T153000
DTSTAMP:20260421T064222
CREATED:20250402T102923Z
LAST-MODIFIED:20250503T104818Z
UID:10000016-1744725600-1744731000@noby.no
SUMMARY:EMS SmartCell trådløs brannalarm (Webinar)
DESCRIPTION:EMS er en engelsk produsent av trådløse brannalarmsystemer med over 50 års erfaring. \nSmartCell er et nyutviklet smart brannalarmsystem for mindre og mellomstore installasjoner. Med EMS teknologi på innsiden tilbyr dette nye systemet funksjoner som normalt kun finnes i store brannalarmsystemer i en kompakt enhet. Systemet støtter inntill 64 enheter og benytter neste generasjons trådløse teknologi. SmartCell har mulighet for online kommunikasjon som gjør det mulig for installatører og brukere å få full oversikt over anlegget fra en applikasjon eller software. Enhver hendelse på anlegget vil sendes umiddelbart via SMS eller e-post. \nIntroduksjonskurs (webinar):\nDette kurset tar for seg det grunnleggende for denne sentralen og tilhørende produkter og vil gjøre deltager i stand til å forstå systemets oppbygning og hvordan man programmerer disse (hvilke hjelpemidler) og tips/triks som er nyttige når man starter med dette. \nVi tilbyr også et heldagskurs i våre lokaler på Lambertseter (Oslo)
URL:https://noby.no/kursoversikt/ems-smartcell-tradlos-brannalarm-webinar/
LOCATION:Webinar
CATEGORIES:EMS,SmartCell,Webinar
ATTACH;FMTTYPE=image/webp:https://noby.no/wp-content/uploads/2025/04/ems-kurs.webp
ORGANIZER;CN="Noby AS":MAILTO:salg@noby.no
END:VEVENT
BEGIN:VEVENT
DTSTART;TZID=Europe/Oslo:20250415T090000
DTEND;TZID=Europe/Oslo:20250415T103000
DTSTAMP:20260421T064222
CREATED:20250401T113501Z
LAST-MODIFIED:20250503T110723Z
UID:10000004-1744707600-1744713000@noby.no
SUMMARY:BE WAVE  Smarthjem (Webinar)
DESCRIPTION:BE WAVE er en helt ny sentral fra Satel med unike egenskaper. Den settes opp meget raskt med BE WAVE applikasjonen og enheter legges til ved å sette inn batterier i enhetene – sentralen kobler seg selv opp til din applikasjon ved igangsetting. Sentralen kan leveres i 2 versjoner – LAN/WiFi og en sentral som i tillegg har innebygget 4G. Ingen personlige data lagres i noen skytjeneste siden kommunikasjonen er direkte mellom din telefon og sentralen. Bli med på et webkurs og se hvor enkelt det er å sette opp et smarthjem/sikkerhetssystem. \nFor dette produktet kjører vi nå webkurs.\n– introduksjonskurs på web som vil ta ca 1\,5 time (ingen kursavgift) \nIntroduksjonskurs (webinar):\nDette kurset tar for seg det grunnleggende for dette alarm/smarthjem-systemet og vil gjøre deltager i stand til å forstå systemets oppbygning og hvordan man programmerer systemet (hvilke hjelpemidler) og tips/triks som er nyttige når man starter med dette systemet. \n 
URL:https://noby.no/kursoversikt/be-wave-smarthjem-webinar/
LOCATION:Webinar
CATEGORIES:BE WAVE,Webinar
ATTACH;FMTTYPE=image/webp:https://noby.no/wp-content/uploads/2025/04/bewave-1.webp
ORGANIZER;CN="Noby AS":MAILTO:salg@noby.no
END:VEVENT
BEGIN:VEVENT
DTSTART;TZID=Europe/Oslo:20250410T090000
DTEND;TZID=Europe/Oslo:20250410T103000
DTSTAMP:20260421T064222
CREATED:20250402T103326Z
LAST-MODIFIED:20250411T104957Z
UID:10000019-1744275600-1744281000@noby.no
SUMMARY:Tosibox VPN og nettverk (Webinar)
DESCRIPTION:Tosibox er en finsk produsent og leverandør av hardware og software for sikker IP kommunikasjon. \nTosibox leverer sikre og enkle løsninger for nettverk. Med enhetene fra Tosibox vil man kunne sette opp sikre nettverk uten dyp IP kompetanse siden de selv setter opp den sikre kommunikasjonen og er ikke avhengig av å benytte kundens nettverk. \nIntroduksjonskurs (webinar):\nDette kurset tar for seg det grunnleggende for disse enhetene og vil gjøre deltager i stand til å forstå deres oppbygning og hvordan man programmerer disse (hvilke hjelpemidler) og tips/triks som er nyttige når man starter med dette.
URL:https://noby.no/kursoversikt/tosibox-vpn-og-nettverk-webinar/
LOCATION:Webinar
CATEGORIES:Tosibox,Webinar
ATTACH;FMTTYPE=image/jpeg:https://noby.no/wp-content/uploads/2025/04/Tosibox1195312147_scaled_480.jpeg
ORGANIZER;CN="Noby AS":MAILTO:salg@noby.no
END:VEVENT
BEGIN:VEVENT
DTSTART;TZID=Europe/Oslo:20250410T090000
DTEND;TZID=Europe/Oslo:20250410T103000
DTSTAMP:20260421T064222
CREATED:20250401T112352Z
LAST-MODIFIED:20250503T105812Z
UID:10000001-1744275600-1744281000@noby.no
SUMMARY:Jablotron Innbruddsalarm - Mercury alarm (Webinar)
DESCRIPTION:Kurs i Jablotron Innbruddsalarm – Mercury systemet er et nytt app-basert system hvor alt programmeres raskt og enkelt med MyCompany applikasjonen på telefonen. Systemet passer for små til mellomstore systemer med grunnleggende behov. \nJablotron er en Tsjekkisk produsent av kablede og trådløse alarmsentraler samt tilbehør til disse og har en rekke produkter i sortimentet. \nIntroduksjonskurs (webinar)\nDette kurset tar for seg det grunnleggende for systemene og vil gjøre deltager i stand til å forstå systemets oppbygning og hvordan man programmerer anleggene (hvilke hjelpemidler) og tips/triks som er nyttige når man starter med disse systemene. \nMeld deg på via påmeldingslenken nedenfor.
URL:https://noby.no/kursoversikt/jablotron-innbruddsalarm-mercury-alarm-webinar/
LOCATION:Webinar
CATEGORIES:Jablotron,Mercury,Webinar
ATTACH;FMTTYPE=image/webp:https://noby.no/wp-content/uploads/2025/04/Jablotron-Innbruddsalarm-–-Mercury.webp
ORGANIZER;CN="Noby AS":MAILTO:salg@noby.no
END:VEVENT
BEGIN:VEVENT
DTSTART;TZID=Europe/Oslo:20250409T090000
DTEND;TZID=Europe/Oslo:20250409T150000
DTSTAMP:20260421T064222
CREATED:20250402T103038Z
LAST-MODIFIED:20250409T132036Z
UID:10000018-1744189200-1744210800@noby.no
SUMMARY:EMS SmartCell trådløs brannalarm (heldagskurs)
DESCRIPTION:EMS er en engelsk produsent av trådløse brannalarmsystemer med over 50 års erfaring \nSmartCell er et nyutviklet smart brannalarmsystem for mindre og mellomstore installasjoner. Med EMS teknologi på innsiden tilbyr dette nye systemet funksjoner som normalt kun finnes i store brannalarmsystemer i en kompakt enhet. Systemet støtter inntill 64 enheter og benytter neste generasjons trådløse teknologi. SmartCell har mulighet for online kommunikasjon som gjør det mulig for installatører og brukere å få full oversikt over anlegget fra en applikasjon eller software. Enhver hendelse på anlegget vil sendes umiddelbart via SMS eller e-post. \nHeldagskurs:\nDette kurset tar for seg planlegging og idriftsettelse av det adresserbare brannalarmsystemet Smart1. Kurset vil gå igjennom programmering og muligheter man har med dette systemet. \nKurset har en avgift på kr 8300\,- eks. mva. og inkluderer da et utvalg produkter som benyttes under kurset. NB! Deltagere beholder dette utstyret etter endt kurs.
URL:https://noby.no/kursoversikt/ems-smartcell-tradlos-brannalarm-heldagskurs/
LOCATION:Nobyskolen\, Cecilie Thoresensvei 5\, OSLO\, Oslo\, 1153\, Norway
CATEGORIES:EMS,Heldagskurs,SmartCell
ATTACH;FMTTYPE=image/jpeg:https://noby.no/wp-content/uploads/2025/04/Samlebilde-1964996693_scaled_320.jpeg
ORGANIZER;CN="Noby AS":MAILTO:salg@noby.no
END:VEVENT
BEGIN:VEVENT
DTSTART;TZID=Europe/Oslo:20250409T080000
DTEND;TZID=Europe/Oslo:20250409T160000
DTSTAMP:20260421T064222
CREATED:20250408T120023Z
LAST-MODIFIED:20250408T120023Z
UID:10000024-1744185600-1744214400@noby.no
SUMMARY:Noby på fagmesse hos Elektroimportøren Asker
DESCRIPTION:Vi fortsetter suksessen fra 2024\nNoby fortsetter med roadshowet vårt. Vi kommer til en forhandler nær deg med vår fult utstyrte roadshow-henger\, som er stappfull av sikkerhetsgodsaker som du kan se\, føle og prøve. \nVi har med sikkerhetsutstyr fra kjente og trygge merker som:\nSatel\, Jablotron\, Provision\, SimonsVoss\, Alarmlink\, Eaton\, SystemSensor\, Roger\, Kendrion\, DetectorTesters\, Ei Electronics\, Milleteknik\, Pulsar\, Linjator\, CQR\, Meanwell. \nHva slags utstyr kan du se og prøve ut?\n  \n\n\n\nMerke\nProdukter\n\n\nSatel\nBeWave og Deler av Slim-serien\n\n\nJablotron\nMercury og div. enheter (PIR\, røykdetektor\, MiFare kodetastatur)\n\n\nProvision\nKamera med analyse\, hvit/sort farge\, termisk og intercom når den kommer\n\n\nSimonsVoss\nSkaplås\, hengelås og utendørs langleser\n\n\nSystemsensor\nECO-serien\n\n\nRoger\nDiverse kortlesere\n\n\nKendrion\nDiverse dørholdemagneter i forskjellige utførelser\n\n\nEi Electronics\nEi650\, Ei450\, Ei413\, Ei146\, Ei3016\n\n\nMilleteknik\nSmå og store strømforsyninger\n\n\nMeanWell\nDivese DIN strømforsyninger\n\n\nLinjator\nDivese enheter med LSA\, Skru\, Rele og bokser\n\n\nCQR\nHKFT8L\n\n\nDetectorTesters\nSolo C3\, A5\, A10 og Detektorhodetester\n\n\n\n 
URL:https://noby.no/kursoversikt/noby-pa-fagmesse-hos-elektroimportoren-asker/
LOCATION:Elektroimportøren Asker\, Billingstadsletta 16\, Billingstad\, Asker\, 1396\, Norway
CATEGORIES:Henger,Messe
ATTACH;FMTTYPE=image/jpeg:https://noby.no/wp-content/uploads/2025/04/noby_henger_1.jpg
ORGANIZER;CN="Noby AS":MAILTO:salg@noby.no
END:VEVENT
BEGIN:VEVENT
DTSTART;TZID=Europe/Oslo:20250408T090000
DTEND;TZID=Europe/Oslo:20250408T150000
DTSTAMP:20260421T064222
CREATED:20250401T115243Z
LAST-MODIFIED:20250411T104915Z
UID:10000007-1744102800-1744124400@noby.no
SUMMARY:Provision Kamerautstyr (Heldagskurs)
DESCRIPTION:Provision ISR er en produsent av AHD og IP kameraer av høy kvalitet og med mange avanserte funksjoner. \nKameraløsninger som kan benyttes på hytter\, boliger eller større næringsbygg. Med Provision finner vi en løsning for alle bruksområder. \nHeldagskurs:\nDette kurset tar for seg hvordan man prosjekterer og installerer kameraløsninger fra Provision. Kurset vil starte med en opplæring i plassering og valg av kameraer og fortsetter med installasjon og bruk av lagringsenheter og software . \nKurset har en avgift på kr 4945\,- eks. mva. og inkluderer da et utvalg produkter som benyttes under kurset. NB! Deltagere beholder dette utstyret etter endt kurs. \nOBS! Begrenset med plass\, så vær tidlig ute! \nHeldagskurs i våre lokaler på Lambertseter (Oslo): \nI tillegg tilbyr vi introduksjonskurs på web som vil ta ca 1\,5 time (ingen kursavgift) \n 
URL:https://noby.no/kursoversikt/provision-kamerautstyr-heldagskurs/
LOCATION:Nobyskolen\, Cecilie Thoresensvei 5\, OSLO\, Oslo\, 1153\, Norway
CATEGORIES:Heldagskurs,Provision
ATTACH;FMTTYPE=image/jpeg:https://noby.no/wp-content/uploads/2025/04/Provision1195312147_scaled_480.jpeg
ORGANIZER;CN="Noby AS":MAILTO:salg@noby.no
END:VEVENT
BEGIN:VEVENT
DTSTART;TZID=Europe/Oslo:20250402T080000
DTEND;TZID=Europe/Oslo:20250402T170000
DTSTAMP:20260421T064222
CREATED:20250402T100800Z
LAST-MODIFIED:20250409T132047Z
UID:10000015-1743580800-1743613200@noby.no
SUMMARY:Zeta Smart 1 brannalarm (heldagskurs)
DESCRIPTION:Zeta Alarms er en engelsk produsent av brannalarmsystemer og har en rekke produkter innfor dette segmentet. \nSmart1 adresserbar brannalarmsentral fra Zeta er meget fleksibel og enkel å programmere. Sentralen leveres med touch skjerm for enkel programmering og bruk\, og har innebygget IP modul med mulighet for applikasjonstilkobling. \nHeldagskurs:\nDette kurset tar for seg planlegging og idriftsettelse av det adresserbare brannalarmsystemet Smart1. Kurset vil gå igjennom programmering og muligheter man har med dette systemet. \nKurset har en avgift på kr 8900\,- eks. mva. og inkluderer da et utvalg produkter som benyttes under kurset. NB! Deltagere beholder dette utstyret etter endt kurs.
URL:https://noby.no/kursoversikt/zeta-smart-1-brannalarm-heldagskurs/
LOCATION:Nobyskolen\, Cecilie Thoresensvei 5\, OSLO\, Oslo\, 1153\, Norway
CATEGORIES:Heldagskurs,Smart1,Zeta
ATTACH;FMTTYPE=image/jpeg:https://noby.no/wp-content/uploads/2025/04/Zeta-Alarms-Ltd-Logo-blue1195312147_scaled_480.jpeg
ORGANIZER;CN="Noby AS":MAILTO:salg@noby.no
END:VEVENT
BEGIN:VEVENT
DTSTART;TZID=Europe/Oslo:20250320T090000
DTEND;TZID=Europe/Oslo:20250320T150000
DTSTAMP:20260421T064222
CREATED:20250411T110815Z
LAST-MODIFIED:20250411T110815Z
UID:10000029-1742461200-1742482800@noby.no
SUMMARY:Jablotron Innbruddsalarm - Mercury / JA-100 (heldagskurs)
DESCRIPTION:Dette kurset tar for seg begge systemene og vi starter dagen med Mercury systemet før vi fortsetter med JA-100. Kurset vil ta for seg installasjon og igangsetting av systemene. Fokuset vil være på det grunnleggende man trenger av kunnskap for å kunne jobbe effektivt med disse systemene. Det vil bli opplæring på programmering av både kablet og trådløs installasjon – kurspakken med utstyr vil inneholde begge typer utstyr. Kurset vil også ta for seg noe grunnleggende innen plassering og bruk av detektorer i ulike miljø. \nDet benyttes en programmeringssoftware (F-Link) under kurset (gjelder for JA-100)\, så det er viktig at deltagere tar med seg egen bærbar PC som vil benyttes under kurset. Denne må ikke ha restriksjon med tanke på installasjon av programvare. \nKurset har en avgift på kr 5350\,- eks. mva. og inkluderer da et utvalg produkter som benyttes under kurset. NB! Deltagere beholder dette utstyret etter endt kurs.\nBegge disse systemene kan overvåkes av installatør i MyCompany portalen der man vil ha full oversikt over alle installerte systemer og kan se status og være proaktiv ovenfor kunde med tanke på servicer og batteribytter. \nJablotron er en Tsjekkisk produsent av kablede og trådløse alarmsentraler samt tilbehør til disse og har en rekke produkter i sortimentet. \nVi tilbyr også introduksjonskurs som webinar for både Mercury og JA-100: \nMeld deg på via påmeldingslenken nedenfor.
URL:https://noby.no/kursoversikt/jablotron-innbruddsalarm-mercury-ja-100-heldagskurs/
LOCATION:Nobyskolen\, Cecilie Thoresensvei 5\, OSLO\, Oslo\, 1153\, Norway
CATEGORIES:Heldagskurs,JA-100,Jablotron,Mercury
ATTACH;FMTTYPE=image/jpeg:https://noby.no/wp-content/uploads/2025/04/JA-introkurs.jpeg
ORGANIZER;CN="Noby AS":MAILTO:salg@noby.no
END:VEVENT
BEGIN:VEVENT
DTSTART;TZID=Europe/Oslo:20241205T140000
DTEND;TZID=Europe/Oslo:20241205T153000
DTSTAMP:20260421T064222
CREATED:20250402T100635Z
LAST-MODIFIED:20250503T104300Z
UID:10000014-1733407200-1733412600@noby.no
SUMMARY:Zeta Smart 1 brannalarm
DESCRIPTION:Zeta Alarms er en engelsk produsent av brannalarmsystemer og har en rekke produkter innfor dette segmentet. \nSmart1 adresserbar brannalarmsentral fra Zeta er meget fleksibel og enkel å programmere. Sentralen leveres med touch skjerm for enkel programmering og bruk\, og har innebygget IP modul med mulighet for applikasjonstilkobling. \nIntroduksjonskurs (webinar):\nDette kurset tar for seg det grunnleggende for denne sentralen og tilhørende produkter og vil gjøre deltager i stand til å forstå systemets oppbygning og hvordan man programmerer disse (hvilke hjelpemidler) og tips/triks som er nyttige når man starter med dette. \nVi tilbyr også heldagskurs i våre lokaler på Lambertseter (Oslo).
URL:https://noby.no/kursoversikt/zeta-smart-1-brannalarm/
LOCATION:Webinar
CATEGORIES:Smart1,Webinar,Zeta
ATTACH;FMTTYPE=image/webp:https://noby.no/wp-content/uploads/2025/04/zeta-kurs.webp
ORGANIZER;CN="Noby AS":MAILTO:salg@noby.no
END:VEVENT
END:VCALENDAR